BEGIN:VCALENDAR
VERSION:2.0
PRODID:icalendar-ruby
CALSCALE:GREGORIAN
METHOD:PUBLISH
BEGIN:VEVENT
DTSTAMP:20260425T145917Z
UID:180-1690110@maxlifechurch.com
DTSTART:20260510T003000Z
DTEND:20260510T014500Z
CLASS:PUBLIC
CREATED:20260425T115145
DESCRIPTION:If you are interested in getting your child dedicated please cl
 ick on the link for further information and let Ps Tracy know
LAST-MODIFIED:20260425T115145
LOCATION:
SUMMARY:Child Dedications
URL;VALUE=URI:https://www.maxlifechurch.com/events/child-dedications--180/2
 026-05-10
ATTACH;FILENAME=Child Dedications - Register Interest.png;FMTTYPE=image/png
 :https://dq5pwpg1q8ru0.cloudfront.net/2026/04/25/02/19/51/c565ed92-9381-4c
 44-8804-80c2b1e0e7a1/Child%20Dedications%20-%20Register%20Interest.png
END:VEVENT
END:VCALENDAR
